BEGIN:VCALENDAR
VERSION:2.0
PRODID:-//pretix//pretix.eu//
BEGIN:VTIMEZONE
TZID:Europe/Berlin
BEGIN:STANDARD
DTSTART:20001029T040000
RRULE:FREQ=YEARLY;BYDAY=-1SU;BYMONTH=10
TZNAME:CET
TZOFFSETFROM:+0200
TZOFFSETTO:+0100
END:STANDARD
BEGIN:DAYLIGHT
DTSTART:20000326T030000
RRULE:FREQ=YEARLY;BYDAY=-1SU;BYMONTH=3
TZNAME:CEST
TZOFFSETFROM:+0100
TZOFFSETTO:+0200
END:DAYLIGHT
END:VTIMEZONE
BEGIN:VEVENT
UID:pretix-strandhotel-heiligabendmenue2024-0@tickets.strandhotelgluecksbur
 g.de
DTSTART;TZID=Europe/Berlin:20241224T183000
DTEND;TZID=Europe/Berlin:20241224T223000
DESCRIPTION:Tickets: https://tickets.strandhotelgluecksburg.de/heiligabendm
 enue2024/\nVeranstalter: Figaro Hotelbetrieb GmbH & Co. KG
DTSTAMP:20260422T193216Z
LOCATION:Strandhotel Glücksburg\, Restaurant Felix\, Kirstenstraße 6\, 24
 960 Glücksburg (Ostsee)
SUMMARY:Heiligabendmenü im Restaurant "Felix"
END:VEVENT
END:VCALENDAR
