BEGIN:VCALENDAR
VERSION:2.0
PRODID:-//pretix//pretix.eu//
BEGIN:VTIMEZONE
TZID:Europe/Berlin
BEGIN:STANDARD
DTSTART:20001029T040000
RRULE:FREQ=YEARLY;BYDAY=-1SU;BYMONTH=10
TZNAME:CET
TZOFFSETFROM:+0200
TZOFFSETTO:+0100
END:STANDARD
BEGIN:DAYLIGHT
DTSTART:20000326T030000
RRULE:FREQ=YEARLY;BYDAY=-1SU;BYMONTH=3
TZNAME:CEST
TZOFFSETFROM:+0100
TZOFFSETTO:+0200
END:DAYLIGHT
END:VTIMEZONE
BEGIN:VEVENT
UID:pretix-strandhotel-kulinarikuebergrenzen-0@tickets.strandhotelgluecksbu
 rg.de
DTSTART;TZID=Europe/Berlin:20260314T180000
DTEND;TZID=Europe/Berlin:20260314T220000
DESCRIPTION:Tickets: https://tickets.strandhotelgluecksburg.de/kulinarikueb
 ergrenzen/\nVeranstalter: Figaro Hotelbetrieb GmbH & Co. KG
DTSTAMP:20260419T150239Z
LOCATION:Strandhotel Glücksburg\, Restaurant Felix\, Kirstenstraße 6\, 24
 960 Glücksburg (Ostsee)
SUMMARY:Kulinarik über Grenzen
END:VEVENT
END:VCALENDAR
