BEGIN:VCALENDAR
VERSION:2.0
PRODID:-//pretix//pretix.eu//
BEGIN:VTIMEZONE
TZID:Europe/Berlin
BEGIN:STANDARD
DTSTART:20001029T040000
RRULE:FREQ=YEARLY;BYDAY=-1SU;BYMONTH=10
TZNAME:CET
TZOFFSETFROM:+0200
TZOFFSETTO:+0100
END:STANDARD
BEGIN:DAYLIGHT
DTSTART:20000326T030000
RRULE:FREQ=YEARLY;BYDAY=-1SU;BYMONTH=3
TZNAME:CEST
TZOFFSETFROM:+0100
TZOFFSETTO:+0200
END:DAYLIGHT
END:VTIMEZONE
BEGIN:VEVENT
UID:pretix-strandhotel-silvestergala2025-0@tickets.strandhotelgluecksburg.d
 e
DTSTART;TZID=Europe/Berlin:20251231T190000
DTEND;TZID=Europe/Berlin:20260101T020000
DESCRIPTION:Tickets: https://tickets.strandhotelgluecksburg.de/silvestergal
 a2025/\nVeranstalter: Figaro Hotelbetrieb GmbH & Co. KG
DTSTAMP:20260419T174937Z
LOCATION:Strandhotel Glücksburg\, Elisabeth Saal\, Kirstenstraße 6\, 2496
 0 Glücksburg (Ostsee)
SUMMARY:Silvestergala im Elisabeth Saal
END:VEVENT
END:VCALENDAR
